BEGIN:VCALENDAR
VERSION:2.0
PRODID:www.codnes.sk
BEGIN:VEVENT
UID:69e9e240533fd
DTSTART:20260423T090000Z
SEQUENCE:0
TRANSP:OPAQUE
DTEND:20260423T110000Z
LOCATION:Bratislava
SUMMARY:Workshop pre seniorov v KOLO Karlova Ves: tréning pamäte
CLASS:PUBLIC
DESCRIPTION:Čo vás čakáČakajú vás rôzne cvičenia a techniky na pod
 poru pamäte\, pozornosti a koncentrácie\, ktoré
DTSTAMP:20260423T091128Z
END:VEVENT
END:VCALENDAR