BEGIN:VCALENDAR
VERSION:2.0
PRODID:www.codnes.sk
BEGIN:VEVENT
UID:69ed3a3b4aaaf
DTSTART:20260426T190000Z
SEQUENCE:0
TRANSP:OPAQUE
LOCATION:Bratislava
SUMMARY:Zajačik
CLASS:PUBLIC
DESCRIPTION:Autor:Eva Borušovičová\nRéžia:Eva Borušovičová\nÚčink
 ujú:Zuzana Fialová (Snehu)\,Zuzana Vačková (Superw
DTSTAMP:20260425T220339Z
END:VEVENT
END:VCALENDAR