BEGIN:VCALENDAR
VERSION:2.0
PRODID:www.codnes.sk
BEGIN:VEVENT
UID:69e7323a4a989
DTSTART:20260311T190000Z
SEQUENCE:0
TRANSP:OPAQUE
DTEND:20260311T235959Z
LOCATION:Bratislava
SUMMARY:Zatiaľ posledná podoba
CLASS:PUBLIC
DESCRIPTION:Jediná cesta von vedie cestou dnu. Hoc nevedomie pociťujeme a
 ko „zákulisie“\, v&nbsp\;skutočnosti je j
DTSTAMP:20260421T081554Z
END:VEVENT
END:VCALENDAR