BEGIN:VCALENDAR
VERSION:2.0
PRODID:www.codnes.sk
BEGIN:VEVENT
UID:69eb38eac575c
DTSTART:20260425T093000Z
SEQUENCE:0
TRANSP:OPAQUE
DTEND:20260425T133000Z
LOCATION:Bratislava
SUMMARY:Ženská konferencia Premenená
CLASS:PUBLIC
DESCRIPTION:Konferencia PREMENENÁ je pozvaním pre každú ženu vstúpiť
  hlbšie do vzťahu s Bohom a dovoliť Mu\, aby
DTSTAMP:20260424T093330Z
END:VEVENT
END:VCALENDAR