BEGIN:VCALENDAR
VERSION:2.0
PRODID:www.codnes.sk
BEGIN:VEVENT
UID:69eb382410cd1
DTSTART:20260425T130000Z
SEQUENCE:0
TRANSP:OPAQUE
DTEND:20260425T150000Z
LOCATION:Bratislava
SUMMARY:Zóna duševného zdravia
CLASS:PUBLIC
DESCRIPTION:Priestor na otvorené rozhovory o vzťahoch\, emóciách a kaž
 dodennom fungovaní. Podnetné prednášky a di
DTSTAMP:20260424T093012Z
END:VEVENT
END:VCALENDAR